BEGIN:VCALENDAR
VERSION:2.0
PRODID:-//Bissantz &amp; Company - ECPv6.10.2//NONSGML v1.0//EN
CALSCALE:GREGORIAN
METHOD:PUBLISH
X-WR-CALNAME:Bissantz &amp; Company
X-ORIGINAL-URL:https://www.bissantz.de
X-WR-CALDESC:Veranstaltungen im Bissantz &amp; Company
REFRESH-INTERVAL;VALUE=DURATION:PT1H
X-Robots-Tag:noindex
X-PUBLISHED-TTL:PT1H
BEGIN:VTIMEZONE
TZID:Europe/Berlin
BEGIN:DAYLIGHT
TZOFFSETFROM:+0100
TZOFFSETTO:+0200
TZNAME:CEST
DTSTART:20240331T010000
END:DAYLIGHT
BEGIN:STANDARD
TZOFFSETFROM:+0200
TZOFFSETTO:+0100
TZNAME:CET
DTSTART:20241027T010000
END:STANDARD
END:VTIMEZONE
BEGIN:VEVENT
DTSTART;VALUE=DATE:20241015
DTEND;VALUE=DATE:20241019
DTSTAMP:20260423T181239
CREATED:20240610T140016Z
LAST-MODIFIED:20241004T093804Z
UID:122387-1728954000-1729213199@www.bissantz.de
SUMMARY:DSAG-Jahreskongress 2024
DESCRIPTION:Der DSAG-Jahreskongress gilt als wichtigster Treffpunkt für SAP-Anwenderunternehmen im deutschsprachigen Raum. Bereits seit dem Jahr 2000 finden sich hier jedes Jahr Vertreter aus der SAP-Anwendergruppe zusammen\, um Erfahrungen auszutauschen\, sich zu vernetzen und die neuesten Entwicklungen zu diskutieren. Organisiert wird der Jahreskongress von DSAG\, der Deutschsprachigen ­SAP ­Anwender­gruppe. Er findet dieses Jahr vom 15. bis 17. Oktober auf der Messe Leipzig statt. \nUnter dem Motto „Dreiklang der Zukunft – Anwender\, SAP und Partner als Taktgeber der Transformation“ stehen SAP-Anwendern in Halle 5 der Messe Leipzig drei ereignisreiche Tage mit zahlreichen spannenden Keynotes und Insights\, Partnervorträgen und Themensitzungen bevor. An unserem Stand H5 präsentieren wir: die Bissantz ERP Solutions für SAP – Business Intelligence mit maximaler Flexibilität und Geschwindigkeit! \nWir machen die modulübergreifende Analyse Ihrer SAP- und Non-SAP-Daten einfach und effizient. Mit den Bissantz ERP Solutions entsteht in kürzester Zeit Ihr unabhängiges Data Warehouse – zugleich die Basis für die integrierte Planung.  \n\nin zwei Tagen von SAP zum fertigen Dashboard\nBerechtigungen\, Sicherheit\, Deployment\nstandardisiertes Business-Intelligence-Framework\neinheitliches Frontend für Analyse\, Planung\, Reporting\nindividuelle Erweiterungen und Direktzugriff auf SAP möglich\n\nAnwender bestätigen: „SAP-Landschaften können sperrig sein. Ich war skeptisch\, ob man darauf wirklich so schnell etwas aufsetzen kann – aber Bissantz hat das Versprechen gehalten!“\n(Dr. Ulrike Neubauer\, CEO\, zwissTEX) \nGerne merken wir einen Termin für ein persönliches Gespräch für Sie vor. \n  \nTerminvereinbarung
URL:https://www.bissantz.de/veranstaltung/dsag-jahreskongress-2024/
LOCATION:Leipziger Messe\, Messe-Allee 1\, Leipzig\, 04356\, Deutschland
CATEGORIES:Messe/Kongress
ATTACH;FMTTYPE=image/jpeg:https://www.bissantz.de/images/2022/12/20241015_DSAG_Jahreskongress_Leipzig_WEB_1200x675px-3.jpg
ORGANIZER;CN="Deutschsprachige SAP Anwendergruppe e.V. (DSAG)":MAILTO:info@dsag.de
END:VEVENT
END:VCALENDAR