BEGIN:VCALENDAR
VERSION:2.0
PRODID:-//Bissantz &amp; Company - ECPv6.10.2//NONSGML v1.0//EN
CALSCALE:GREGORIAN
METHOD:PUBLISH
X-WR-CALNAME:Bissantz &amp; Company
X-ORIGINAL-URL:https://www.bissantz.de
X-WR-CALDESC:Veranstaltungen im Bissantz &amp; Company
REFRESH-INTERVAL;VALUE=DURATION:PT1H
X-Robots-Tag:noindex
X-PUBLISHED-TTL:PT1H
BEGIN:VTIMEZONE
TZID:Europe/Berlin
BEGIN:DAYLIGHT
TZOFFSETFROM:+0100
TZOFFSETTO:+0200
TZNAME:CEST
DTSTART:20230326T010000
END:DAYLIGHT
BEGIN:STANDARD
TZOFFSETFROM:+0200
TZOFFSETTO:+0100
TZNAME:CET
DTSTART:20231029T010000
END:STANDARD
END:VTIMEZONE
BEGIN:VEVENT
DTSTART;TZID=Europe/Berlin:20230706T090000
DTEND;TZID=Europe/Berlin:20230706T110000
DTSTAMP:20260419T172510
CREATED:20230620T103841Z
LAST-MODIFIED:20230621T074918Z
UID:97462-1688634000-1688641200@www.bissantz.de
SUMMARY:Data-Playoffs: Regionale Sportdaten in der Analyse
DESCRIPTION:Wie war die Performance über die Saison? Tore\, Assists\, Anteile\, Besucher – was war entscheidend? Wir analysieren Statistiken regionaler Bundesligisten! \nIm Rahmen des Nürnberg Digital Festival 2023 nehmen wir zusammen mit unserem Partner PRODATO die Spielstatistiken regionaler Bundesligisten unter die Lupe. Dazu nutzen wir digitale Tools aus der Business-Welt und betrachten den Profisport durch die Brille eines Datenanalysten. \nIm Rahmen dieses gemeinsamen Events erklären wir\, wie eine professionelle Datenarchitektur und Datenintegration für Sportdaten aussehen kann. Außerdem analysieren wir diese Daten mit DeltaMaster und DeltaApp und zeigen\, wie man damit tiefergehende Erkenntnisse über Spiel- und Saisonverläufe gewinnen kann – sowohl am PC als auch am Smartphone. Ein spannender Use-Case\, der sich ohne weiteres auch auf komplexe Unternehmensdaten übertragen lässt. \nzur Anmeldung\n \nSie haben Fragen vorab? Schicken Sie uns eine Nachricht!
URL:https://www.bissantz.de/veranstaltung/nuedigital-mit-prodato-2023-07-06/
LOCATION:Rotonda Clubhaus Nürnberg\, Luitpoldstraße 12\, Nürnberg\, 90402\, Deutschland
CATEGORIES:Messe/Kongress,Business Breakfast,Bissantz-Veranstaltungen,Kennenlernen,Veranstaltung (extern)
ATTACH;FMTTYPE=image/jpeg:https://www.bissantz.de/images/2022/12/20230706_Nuernberg_Digital_mit_Prodato_WEB_1200x675px-2.jpg
END:VEVENT
END:VCALENDAR