BEGIN:VCALENDAR
VERSION:2.0
PRODID:-//Bissantz &amp; Company - ECPv6.10.2//NONSGML v1.0//EN
CALSCALE:GREGORIAN
METHOD:PUBLISH
X-WR-CALNAME:Bissantz &amp; Company
X-ORIGINAL-URL:https://www.bissantz.de
X-WR-CALDESC:Veranstaltungen im Bissantz &amp; Company
REFRESH-INTERVAL;VALUE=DURATION:PT1H
X-Robots-Tag:noindex
X-PUBLISHED-TTL:PT1H
BEGIN:VTIMEZONE
TZID:Europe/Berlin
BEGIN:DAYLIGHT
TZOFFSETFROM:+0100
TZOFFSETTO:+0200
TZNAME:CEST
DTSTART:20220327T010000
END:DAYLIGHT
BEGIN:STANDARD
TZOFFSETFROM:+0200
TZOFFSETTO:+0100
TZNAME:CET
DTSTART:20221030T010000
END:STANDARD
END:VTIMEZONE
BEGIN:VEVENT
DTSTART;TZID=Europe/Berlin:20220207T090000
DTEND;TZID=Europe/Berlin:20220207T120000
DTSTAMP:20260425T011417
CREATED:20211223T101622Z
LAST-MODIFIED:20211228T104259Z
UID:80288-1644224400-1644235200@www.bissantz.de
SUMMARY:Partnerakademie: Empfehlungsoffensive
DESCRIPTION:Marketing und Vertrieb von Business-Software und Beratungs­dienst­leis­tungen profi­tieren von authen­tischen Em­pfeh­lungen und Referenzen. In unserer Partner­aka­de­mie starten wir eine gemein­same Empfeh­lungs­offensive\, bei der wir unter anderem folgenden Fragen nachgehen: Wie bekommen wir Kunden durch Em­pfeh­lungen? Wie erhalten wir bessere Em­pfeh­lungen? Wie werden Em­pfeh­lungen planbar und regelmäßig? \nMit Unterstützung von Beraterin und Coach Sandra Gneist lernen wir: \n\n8 verschiedene Empfehlungsquellen und Beispiele\, wie daraus Geschäft erwächst\,\n6 Gründe\, warum die meisten Unternehmer zu wenig Empfehlungsgeschäft machen\,\n5 Schritte jeder Empfehlungsbeziehung\,\n3 goldene Regeln des Empfehlungsmarketings und\nBeispiele aus der Praxis: Konkrete und greifbare Inhalte\, die helfen\, ein starkes Empfehlungsteam aufzubauen!\n\nAußerdem gibt es Tipps\, wie man sich ein gutes\, stabiles Netzwerk mit den richtigen Menschen aufbaut\, sowie zu Verhaltens- und Kommunikationsstilen beim Netzwerken\, um noch erfolgreicher mit Geschäftspartnern und Kunden zu kommunizieren. Daraus entsteht ein Empfehlungsprozess\, der funktioniert! \nInfos zur Referentin: \nAls Geschäfts­führerin und Inhaberin von dieGneist blickt Sandra Gneist auf insgesamt 20 Jahre Führungs- und Arbeits­erfahrung in der gehobenen Hotel­lerie\, dem Gesund­heits­wesen und der Gastronomie zurück. Begleitet wurde ihre Führungs­tätigkeit von zahl­reichen Aus­bildungen in der Organi­sations- und Personal­ent­wicklung und einem MBA-Studium. Ihr persönliches Beratungs­verständnis ist geprägt von Wert­schätzung und dem Ver­trauen auf die vorhandenen Kom­petenzen und Res­sourcen ihrer Kunden\, die sie gemeinsam mit ihnen erarbeitet basierend auf verschiedenen systemischen Ansätzen. So lernen sich ihre Kunden selbst noch ein Stück besser kennen und ent­decken Poten­ziale und Möglich­keiten\, die ihnen bis dato vielleicht selbst noch gar nicht bewusst waren.
URL:https://www.bissantz.de/veranstaltung/partnerakademie-empfehlungsoffensive-2022-02-07/
LOCATION:Bissantz Campus (virtuell)
CATEGORIES:Partnerveranstaltung,Bissantz-Veranstaltungen,Partnerakademie
ATTACH;FMTTYPE=image/jpeg:https://www.bissantz.de/images/2021/12/20210207_Partnerakademie_Empfehklungsmarketing_1200x675-1.jpg
ORGANIZER;CN="Bissantz & Company GmbH - Partnermanagement":MAILTO:partner@bissantz.de
GEO:49.4692435;11.0848959
END:VEVENT
END:VCALENDAR