BEGIN:VCALENDAR
VERSION:2.0
PRODID:-//Bissantz &amp; Company - ECPv6.10.2//NONSGML v1.0//EN
CALSCALE:GREGORIAN
METHOD:PUBLISH
X-WR-CALNAME:Bissantz &amp; Company
X-ORIGINAL-URL:https://www.bissantz.de
X-WR-CALDESC:Veranstaltungen im Bissantz &amp; Company
REFRESH-INTERVAL;VALUE=DURATION:PT1H
X-Robots-Tag:noindex
X-PUBLISHED-TTL:PT1H
BEGIN:VTIMEZONE
TZID:Europe/Berlin
BEGIN:DAYLIGHT
TZOFFSETFROM:+0100
TZOFFSETTO:+0200
TZNAME:CEST
DTSTART:20250330T010000
END:DAYLIGHT
BEGIN:STANDARD
TZOFFSETFROM:+0200
TZOFFSETTO:+0100
TZNAME:CET
DTSTART:20251026T010000
END:STANDARD
END:VTIMEZONE
BEGIN:VEVENT
DTSTART;VALUE=DATE:20250925
DTEND;VALUE=DATE:20250928
DTSTAMP:20260421T144530
CREATED:20250402T134232Z
LAST-MODIFIED:20250923T100852Z
UID:121892-1758762000-1758934799@www.bissantz.de
SUMMARY:Think BI. Do Bissantz. BI Camp 2025
DESCRIPTION:Karriere im Consulting? In unserem zweitägigen BI Camp lernst du die Praxis der datenbasierten Unternehmensführung (Business Intelligence) kennen\, sprichst mit erfahrenen Consultants und baust dein Netzwerk aus. \nAn zwei Tagen lernst Du\, wie Du Daten anwendungsbezogen verwalten\, interaktive Berichte erstellen und daraus unternehmerische Entscheidungen ableitest. Die Veranstaltung findet vor Ort statt und ist kostenfrei\, inklusive Übernachtung und Verpflegung. Du übernachtest in Nürnberg im SORAT Hotel Saxx\, das zentral liegt und eine direkte U-Bahn-Anbindung an den Hauptbahnhof hat. Kosten für die An- und Abreise werden nicht übernommen. \nDas erwartet dich: \nDas BI Camp findet in der Bissantz-Zentrale in Nürnberg statt. Du bist eingeladen: Kosten für Übernachtung und Verpflegung übernehmen wir! Für die An- und Abreise kommst du selbst auf. Du übernachtest im SORAT Hotel Saxx\, mitten in der hübschen Altstadt von Nürnberg\, nur eine U-Bahn-Haltestelle vom Hauptbahnhof entfernt. \n\nDonnerstag\, 25.09.2025 ab 13:00 Uhr\nWorkshop zu Planung und Reporting\, Ausklang mit gemeinsamem Abendessen\nFreitag\, 26.09.2025 von 9:00-16:30 Uhr\nBusiness Intelligence mit Bissantz\n\nDer Bewerbungszeitraum für das BI Camp 2025 ist leider verstrichen. Wir benachrichtigen dich gerne nächstes Jahr per E-Mail\, wenn du dich für das nächste BI Camp bewerben kannst: \nRegistrierung\n 
URL:https://www.bissantz.de/veranstaltung/think-bi-do-bissantz-bi-camp-2025/
LOCATION:Bissantz & Company GmbH\, Nordring 98\, Nürnberg\, 90409\, Deutschland
CATEGORIES:Messe/Kongress,Bissantz-Veranstaltungen
ATTACH;FMTTYPE=image/jpeg:https://www.bissantz.de/images/2025/04/20250625_BI_Camp_2025_Beitragsbild_1200x675px_ohne_Button.jpg
ORGANIZER;CN="Bissantz & Company GmbH":MAILTO:service@bissantz.de
END:VEVENT
END:VCALENDAR