BEGIN:VCALENDAR
VERSION:2.0
PRODID:-//Bissantz &amp; Company - ECPv6.10.2//NONSGML v1.0//EN
CALSCALE:GREGORIAN
METHOD:PUBLISH
X-WR-CALNAME:Bissantz &amp; Company
X-ORIGINAL-URL:https://www.bissantz.de
X-WR-CALDESC:Veranstaltungen im Bissantz &amp; Company
REFRESH-INTERVAL;VALUE=DURATION:PT1H
X-Robots-Tag:noindex
X-PUBLISHED-TTL:PT1H
BEGIN:VTIMEZONE
TZID:Europe/Berlin
BEGIN:DAYLIGHT
TZOFFSETFROM:+0100
TZOFFSETTO:+0200
TZNAME:CEST
DTSTART:20240331T010000
END:DAYLIGHT
BEGIN:STANDARD
TZOFFSETFROM:+0200
TZOFFSETTO:+0100
TZNAME:CET
DTSTART:20241027T010000
END:STANDARD
END:VTIMEZONE
BEGIN:VEVENT
DTSTART;TZID=Europe/Berlin:20240703T100000
DTEND;TZID=Europe/Berlin:20240703T103000
DTSTAMP:20260424T180045
CREATED:20240506T123419Z
LAST-MODIFIED:20240506T133031Z
UID:122126-1720000800-1720002600@www.bissantz.de
SUMMARY:Analyse\, Planung und Reporting – Business Intelligence so einfach\, wie es sein sollte
DESCRIPTION:Gibt es bei Ihnen schon den Single Point of Truth? Haben alle dieselben Kennzahlen und verstehen auch dasselbe darunter? Oder ist die Kennzahlsteuerung bislang eine Quelle von Frust und Fehlern? \nIn diesem Webinar zeigen wir Ihnen\, wie Analyse\, Planung und Reporting mit Bissantz dafür sorgen\, Ihr Unternehmen auf Erfolgskurs zu halten. \n\nmehrdimensionale Analysen\nautomatisierte Abweichungsanalyse\nstandardisierte Berichtsformate\npatentierte Visualisierung\nDrill-down\nbetriebswirtschaftliches Signalkonzept\nTrenderkennung mit Sparklines\nanalytische Dashboards\nMobile BI\n\nDies Video kann in Ihrem Browser nicht wiedergegeben werden.\nEine Download-Version steht unter Link-Addresse\nzum Abruf bereit.\n  \nÜbrigens: Planung\, Analyse und Reporting sind in DeltaMaster eng verzahnt und mit derselben Oberfläche zu nutzen. Das reduziert den Aufwand für Einführung und Schulung noch weiter – Business Intelligence und Performance Management aus einer Hand!
URL:https://www.bissantz.de/veranstaltung/webinar-2024-07-03/
CATEGORIES:Webinar,Kennenlernen,Bissantz-Veranstaltungen
ATTACH;FMTTYPE=image/jpeg:https://www.bissantz.de/images/2022/12/20230703_Webinar_Analyse_Planung_Reporting_WEB_1200x675px-1.jpg
ORGANIZER;CN="Bissantz & Company GmbH":MAILTO:service@bissantz.de
END:VEVENT
END:VCALENDAR